BEGIN:VCALENDAR
VERSION:2.0
PRODID:-//Kulturni Center Litija - ECPv5.10.1//NONSGML v1.0//EN
CALSCALE:GREGORIAN
METHOD:PUBLISH
X-WR-CALNAME:Kulturni Center Litija
X-ORIGINAL-URL:https://www.kclitija.si
X-WR-CALDESC:Events for Kulturni Center Litija
BEGIN:VTIMEZONE
TZID:Europe/Ljubljana
BEGIN:DAYLIGHT
TZOFFSETFROM:+0100
TZOFFSETTO:+0200
TZNAME:CEST
DTSTART:20260329T010000
END:DAYLIGHT
BEGIN:STANDARD
TZOFFSETFROM:+0200
TZOFFSETTO:+0100
TZNAME:CET
DTSTART:20261025T010000
END:STANDARD
END:VTIMEZONE
BEGIN:VEVENT
DTSTART;TZID=Europe/Ljubljana:20260316T190000
DTEND;TZID=Europe/Ljubljana:20260316T190000
DTSTAMP:20260421T105113
CREATED:20260224T104222Z
LAST-MODIFIED:20260224T104311Z
UID:13304-1773687600-1773687600@www.kclitija.si
SUMMARY:Približevanja: Janez Škof
DESCRIPTION:Na marčevska Približevanja prihaja Janez Škof\, slovenski igralec\, harmonikar in pevec. Končal je študij dramske igre in je za svoje vloge prejel številne nagrade. Med njimi več Borštnikovih nagrad\, nagrado Prešernovega sklada in leta 2018 Borštnikov prstan\, najvišjo slovensko nagrado na področju gledališča. In kot je zapisala žirija: »Janez Škof igra z neverjetno lahkotnostjo\, hkrati pa z energijo in prezenco napolnjuje ves prostor. Navdušuje s komiko in drobnimi\, preprostimi \, a izvirnimi in neskončno duhovitimi domislicami.« Leta 2003 je postal član ljubljanske Drame in je z različnimi režiserji odigral vrhunske glavne vloge na številnih slovenskih odrih. Trenutno kot prvak Drame igra glavno vlogo v novi predstavi\, Zajčevi poetični drami Voranc\, od novembra lani pa blesti v življenjski vlogi kralja Leara. Poznamo ga kot filmskega igralca\, z različnimi vlogami v nadaljevankah (Teater paradižnik\, Naša mala klinika\, Takšno je življenje…) in televizijskih oddajah. Kot samouk diatonične harmonike se predstavlja z interpretacijo slovenske poezije\, kot nepozabni interpret poezije Daneta Zajca. Je tudi soustanovitelj glasbene etno skupine Čompe\, ki prihaja letos tudi v Litijo. Urica pogovora z njim bo zagotovo pestra in zanimiva. \n  \nZ gostom se bo pogovarjala Saša Kisovec. \n 
URL:https://www.kclitija.si/dogodek/priblizevanja-janez-skof/
LOCATION:Kulturni  center Litija
CATEGORIES:Pogovor
ATTACH;FMTTYPE=image/jpeg:https://www.kclitija.si/wp-content/uploads/2026/02/1920x1080_SKOF-scaled.jpg
END:VEVENT
END:VCALENDAR